BEGIN:VCALENDAR
VERSION:2.0
PRODID:-//hacksw/handcal//NONSGML v1.0//EN
BEGIN:VEVENT
UID:e346a204aeb1489baaf7c2407d4f8518
DTSTAMP:20260420T215717Z

DTSTART:20241003T080000
DTEND:20241004T170000
SUMMARY:Oregon Realtors 2024 Leadership Conference
DESCRIPTION:Leadership is all about bringing out the best in others to get the work done and leadership training is essential to the success of your association. Featured Speaker, Adorna Carroll, will share her knowledge, tools, and advice both days of this event, preparing attendees for the coming year through processes, position roles, and planning.

X-ALT-DESC;FMTTYPE=text/html:<!DOCTYPE HTML PUBLIC "-//W3C//DTD HTML 3.2//EN">\n<HTML>\n<HEAD>\n<META NAME="Generator" CONTENT="MS Exchange Server version 08.00.0681.000">\n<TITLE></TITLE>\n</HEAD>\n<BODY>\n<!-- Converted from text/rtf format -->\n\nLeadership is all about bringing out the best in others to get the work done and leadership training is essential to the success of your association. Featured Speaker, Adorna Carroll, will share her knowledge, tools, and advice both days of this event, preparing attendees for the coming year through processes, position roles, and planning.\n\n</BODY>\n</HTML>

LOCATION:Bend, Deschutes County, Oregon, United States
END:VEVENT

END:VCALENDAR
