BEGIN:VCALENDAR
VERSION:2.0
PRODID:-//hacksw/handcal//NONSGML v1.0//EN
BEGIN:VEVENT
UID:3a8f8514ebccd83f9b46f9485dda32f4
DTSTAMP:20260419T233122Z

DTSTART:20241014T080000
DTEND:20241017T170000
SUMMARY:Oregon Realtors 2024 Fall Governance
DESCRIPTION:This year’s Fall Governance will take place October 14th-16th at The Graduate, Eugene, offering a hybrid event experience.\n\nJoin Oregon Realtors for informative meetings, insightful forums, and engaging discussions that will enrich your professional knowledge, help you run your business, and expand your network. Whether you’re attending in person or virtually, this is the best opportunity all year to connect with industry leaders, exchange ideas, and shape the future of Oregon REALTORS®.\n\n

X-ALT-DESC;FMTTYPE=text/html:<!DOCTYPE HTML PUBLIC "-//W3C//DTD HTML 3.2//EN">\n<HTML>\n<HEAD>\n<META NAME="Generator" CONTENT="MS Exchange Server version 08.00.0681.000">\n<TITLE></TITLE>\n</HEAD>\n<BODY>\n<!-- Converted from text/rtf format -->\n\nThis year’s Fall Governance will take place October 14th-16th at The Graduate, Eugene, offering a hybrid event experience.<br /><br />Join Oregon Realtors for informative meetings, insightful forums, and engaging discussions that will enrich your professional knowledge, help you run your business, and expand your network. Whether you’re attending in person or virtually, this is the best opportunity all year to connect with industry leaders, exchange ideas, and shape the future of Oregon REALTORS®.<br /><br />\n\n</BODY>\n</HTML>

LOCATION:Eugene, Lane County, Oregon, United States
END:VEVENT

END:VCALENDAR
