BEGIN:VCALENDAR
VERSION:2.0
PRODID:-//hacksw/handcal//NONSGML v1.0//EN
BEGIN:VEVENT
UID:53e281f264aeec8f99bc581ddf896ddb
DTSTAMP:20260420T123755Z

DTSTART:20250328T100000
DTEND:20250330T180000
SUMMARY:Southern AZ Home Show 2025
DESCRIPTION:Save the date for the Southern AZ Home Show, coming to Tucson, AZ, on Mar 28th – 30th, 2025. Held at the Tucson Convention Center this event offers a comprehensive look into home and outdoor living trends.\n\nDon't miss this chance to discover new ideas and connect with experts in the field. Whether you're looking to spruce up your home or enhance your outdoor lifestyle, the Southern AZ Home Show has something for everyone. Join us for a weekend of inspiration, innovation, and excitement!

X-ALT-DESC;FMTTYPE=text/html:<!DOCTYPE HTML PUBLIC "-//W3C//DTD HTML 3.2//EN">\n<HTML>\n<HEAD>\n<META NAME="Generator" CONTENT="MS Exchange Server version 08.00.0681.000">\n<TITLE></TITLE>\n</HEAD>\n<BODY>\n<!-- Converted from text/rtf format -->\n\nSave the date for the Southern AZ Home Show, coming to Tucson, AZ, on Mar 28th – 30th, 2025. Held at the Tucson Convention Center this event offers a comprehensive look into home and outdoor living trends.<br /><br />Don't miss this chance to discover new ideas and connect with experts in the field. Whether you're looking to spruce up your home or enhance your outdoor lifestyle, the Southern AZ Home Show has something for everyone. Join us for a weekend of inspiration, innovation, and excitement!\n\n</BODY>\n</HTML>

LOCATION:Linda Ronstadt Music Hall, 260, South Church Avenue, El Presidio, Tucson, Pima County, Arizona, 85701, United States
END:VEVENT

END:VCALENDAR
