BEGIN:VCALENDAR
VERSION:2.0
PRODID:-//hacksw/handcal//NONSGML v1.0//EN
BEGIN:VEVENT
UID:cfd8c225932999850f5be844d4e54f90
DTSTAMP:20260420T074130Z

DTSTART:20241026T100000
DTEND:20241027T170000
SUMMARY:Chico Fall Home and Garden Show 2024
DESCRIPTION:Join us at the largest and finest home and garden show in the North State.\n\nSave the date for the Chico Fall Home and Garden Show, coming to Chico, CA, on Oct 26th – 27th, 2024. Held at the Silver Dollar Fairgrounds this event offers a comprehensive look into home and outdoor living trends.\n\nDon't miss this chance to discover new ideas and connect with experts in the field. Whether you're looking to spruce up your home or enhance your outdoor lifestyle, the Chico Fall Home and Garden Show has something for everyone. Join us for a weekend of inspiration, innovation, and excitement!

X-ALT-DESC;FMTTYPE=text/html:<!DOCTYPE HTML PUBLIC "-//W3C//DTD HTML 3.2//EN">\n<HTML>\n<HEAD>\n<META NAME="Generator" CONTENT="MS Exchange Server version 08.00.0681.000">\n<TITLE></TITLE>\n</HEAD>\n<BODY>\n<!-- Converted from text/rtf format -->\n\nJoin us at the largest and finest home and garden show in the North State.<br /><br />Save the date for the Chico Fall Home and Garden Show, coming to Chico, CA, on Oct 26th – 27th, 2024. Held at the Silver Dollar Fairgrounds this event offers a comprehensive look into home and outdoor living trends.<br /><br />Don't miss this chance to discover new ideas and connect with experts in the field. Whether you're looking to spruce up your home or enhance your outdoor lifestyle, the Chico Fall Home and Garden Show has something for everyone. Join us for a weekend of inspiration, innovation, and excitement!\n\n</BODY>\n</HTML>

LOCATION:2357, Fair Street, Stirling Junction, Chico, Butte County, California, 95928, United States
END:VEVENT

END:VCALENDAR
