BEGIN:VCALENDAR
VERSION:2.0
PRODID:-//hacksw/handcal//NONSGML v1.0//EN
BEGIN:VEVENT
UID:aa8112d415cc2e8b0c988240f4611b31
DTSTAMP:20260420T095813Z

DTSTART:20241101T120000
DTEND:20241103T170000
SUMMARY:The Pomona Fall Home Show 2024
DESCRIPTION:As the weather starts to cool down, come check out the Fall Home Show at the Pomona Fairplex.\n\nLearn from our garden experts, home improvement professionals, and trustworthy contractors all the ways that you can make your house really feel like your dream home.

X-ALT-DESC;FMTTYPE=text/html:<!DOCTYPE HTML PUBLIC "-//W3C//DTD HTML 3.2//EN">\n<HTML>\n<HEAD>\n<META NAME="Generator" CONTENT="MS Exchange Server version 08.00.0681.000">\n<TITLE></TITLE>\n</HEAD>\n<BODY>\n<!-- Converted from text/rtf format -->\n\nAs the weather starts to cool down, come check out the Fall Home Show at the Pomona Fairplex.<br /><br />Learn from our garden experts, home improvement professionals, and trustworthy contractors all the ways that you can make your house really feel like your dream home.\n\n</BODY>\n</HTML>

LOCATION:Pomona, Los Angeles County, California, United States
END:VEVENT

END:VCALENDAR
