BEGIN:VCALENDAR
VERSION:2.0
PRODID:-//hacksw/handcal//NONSGML v1.0//EN
BEGIN:VEVENT
UID:ccec1a3fa673178a09e30c42c81f7938
DTSTAMP:20260419T230701Z

DTSTART:20250308T100000
DTEND:20250309T170000
SUMMARY:TinyFest California - Tiny Home & Nomad Living Expo 2025 
DESCRIPTION:Tour tiny houses, van conversions, skoolies, backyard cottages (ADUs), shipping container home, adventure rigs and more! Meet the builders and people who are living and traveling tiny every day.\n\nShop the Simple Living Marketplace. Enjoy a variety of vendors who will guide you to minimize your clutter, debt, and carbon footprint.\n\nGain in depth information about a variety of topics and hear inspiring stories. TinyFest features a weekend full of speaker presentations, Q & A Sessions and Panel Discussions.\n\nTinyFest California is bringing together like-minded people who value the ideals behind building small and living large!!

X-ALT-DESC;FMTTYPE=text/html:<!DOCTYPE HTML PUBLIC "-//W3C//DTD HTML 3.2//EN">\n<HTML>\n<HEAD>\n<META NAME="Generator" CONTENT="MS Exchange Server version 08.00.0681.000">\n<TITLE></TITLE>\n</HEAD>\n<BODY>\n<!-- Converted from text/rtf format -->\n\nTour tiny houses, van conversions, skoolies, backyard cottages (ADUs), shipping container home, adventure rigs and more! Meet the builders and people who are living and traveling tiny every day.<br /><br />Shop the Simple Living Marketplace. Enjoy a variety of vendors who will guide you to minimize your clutter, debt, and carbon footprint.<br /><br />Gain in depth information about a variety of topics and hear inspiring stories. TinyFest features a weekend full of speaker presentations, Q & A Sessions and Panel Discussions.<br /><br />TinyFest California is bringing together like-minded people who value the ideals behind building small and living large!!\n\n</BODY>\n</HTML>

LOCATION:2260, Jimmy Durante Boulevard, Del Mar, California, 92014, United States
END:VEVENT

END:VCALENDAR
