BEGIN:VCALENDAR
VERSION:2.0
PRODID:-//hacksw/handcal//NONSGML v1.0//EN
BEGIN:VEVENT
UID:7337afe742c10ede99b19b5534240c83
DTSTAMP:20260419T181813Z

DTSTART:20241011T120000
DTEND:20241013T160000
SUMMARY:Castle Rock Home Show - October 2024
DESCRIPTION:This free event is the perfect opportunity for homeowners to save BIG on all home improvement projects and meet with local and national vendors face-to-face, offering valuable insights and guidance to help you turn your vision into reality.\n\nWhether you're looking to remodel your kitchen, revamp your outdoor living space, or simply make some updates around the house, this show has everything you need to get started.

X-ALT-DESC;FMTTYPE=text/html:<!DOCTYPE HTML PUBLIC "-//W3C//DTD HTML 3.2//EN">\n<HTML>\n<HEAD>\n<META NAME="Generator" CONTENT="MS Exchange Server version 08.00.0681.000">\n<TITLE></TITLE>\n</HEAD>\n<BODY>\n<!-- Converted from text/rtf format -->\n\nThis free event is the perfect opportunity for homeowners to save BIG on all home improvement projects and meet with local and national vendors face-to-face, offering valuable insights and guidance to help you turn your vision into reality.<br /><br />Whether you're looking to remodel your kitchen, revamp your outdoor living space, or simply make some updates around the house, this show has everything you need to get started.\n\n</BODY>\n</HTML>

LOCATION:Fairgrounds Road, Castle Rock, Douglas County, Colorado, 80104, United States
END:VEVENT

END:VCALENDAR
