BEGIN:VCALENDAR
VERSION:2.0
PRODID:-//hacksw/handcal//NONSGML v1.0//EN
BEGIN:VEVENT
UID:3fb034cf42eb14854c93e98e3a93e3bb
DTSTAMP:20260420T104427Z

DTSTART:20250208T100000
DTEND:20250216T170000
SUMMARY:Colorado Garden & Home Show 2025
DESCRIPTION:Discover the Rocky Mountain region’s largest and most prestigious garden and home show – a nine-day spectacular event at the Colorado Convention Center – where you can find inspiration from the latest ideas and trends in landscaping, gardening and home improvement. Enjoy the multitude of fragrances as you stroll through more than an acre of professionally landscaped gardens.\n\nTalk to representatives from more than 500 companies from 25 states and Canada. Visit with the region’s gardening gurus and home improvement experts about the best ways to move your home and garden projects forward.

X-ALT-DESC;FMTTYPE=text/html:<!DOCTYPE HTML PUBLIC "-//W3C//DTD HTML 3.2//EN">\n<HTML>\n<HEAD>\n<META NAME="Generator" CONTENT="MS Exchange Server version 08.00.0681.000">\n<TITLE></TITLE>\n</HEAD>\n<BODY>\n<!-- Converted from text/rtf format -->\n\nDiscover the Rocky Mountain region’s largest and most prestigious garden and home show – a nine-day spectacular event at the Colorado Convention Center – where you can find inspiration from the latest ideas and trends in landscaping, gardening and home improvement. Enjoy the multitude of fragrances as you stroll through more than an acre of professionally landscaped gardens.<br /><br />Talk to representatives from more than 500 companies from 25 states and Canada. Visit with the region’s gardening gurus and home improvement experts about the best ways to move your home and garden projects forward.\n\n</BODY>\n</HTML>

LOCATION:Colorado Convention Center, 700, 14th Street, Central Business District, Denver, Colorado, 80202, United States
END:VEVENT

END:VCALENDAR
