BEGIN:VCALENDAR
VERSION:2.0
PRODID:-//hacksw/handcal//NONSGML v1.0//EN
BEGIN:VEVENT
UID:c143f99e932c5f43143eb45f2e37782c
DTSTAMP:20260420T005440Z

DTSTART:20190725T100000
DTEND:20190725T120000
SUMMARY:Facing Facebook
DESCRIPTION:Description-\n\nLearn how to leverage your social media accounts to grow your business. In this class, we will talk about how to market on your accounts, we will discuss how to focus your posts so they provide information of value, and how Facebook algorithms can work for or against you.\n\nCost- 0\nCredits- 0\n\nNotes-\nLight refreshments provided.

X-ALT-DESC;FMTTYPE=text/html:<!DOCTYPE HTML PUBLIC "-//W3C//DTD HTML 3.2//EN">\n<HTML>\n<HEAD>\n<META NAME="Generator" CONTENT="MS Exchange Server version 08.00.0681.000">\n<TITLE></TITLE>\n</HEAD>\n<BODY>\n<!-- Converted from text/rtf format -->\n\nDescription-<br /><br />Learn how to leverage your social media accounts to grow your business. In this class, we will talk about how to market on your accounts, we will discuss how to focus your posts so they provide information of value, and how Facebook algorithms can work for or against you.<br /><br />Cost- 0<br />Credits- 0<br /><br />Notes-<br />Light refreshments provided.\n\n</BODY>\n</HTML>

LOCATION:2500 Arapahoe Ave #200, Boulder, CO 80302, USA
END:VEVENT

END:VCALENDAR
