BEGIN:VCALENDAR
VERSION:2.0
PRODID:-//hacksw/handcal//NONSGML v1.0//EN
BEGIN:VEVENT
UID:cc970a39e4c9fced93c8ce3ca6296fbe
DTSTAMP:20260420T060834Z

DTSTART:20250214T170000
DTEND:20250216T170000
SUMMARY:Southeastern Connecticut Home and Garden Show 2025
DESCRIPTION:The Southeastern CT Home and Garden Show is one of Jenks Productions’ best and longest running regional home shows. Each year the Home Show draws more and more visitors, last year’s show had over 20,000 in attendance. This increased Home and Garden expo crowd has enticed even more home show vendor participation.

X-ALT-DESC;FMTTYPE=text/html:<!DOCTYPE HTML PUBLIC "-//W3C//DTD HTML 3.2//EN">\n<HTML>\n<HEAD>\n<META NAME="Generator" CONTENT="MS Exchange Server version 08.00.0681.000">\n<TITLE></TITLE>\n</HEAD>\n<BODY>\n<!-- Converted from text/rtf format -->\n\nThe Southeastern CT Home and Garden Show is one of Jenks Productions’ best and longest running regional home shows. Each year the Home Show draws more and more visitors, last year’s show had over 20,000 in attendance. This increased Home and Garden expo crowd has enticed even more home show vendor participation.\n\n</BODY>\n</HTML>

LOCATION:Mohegan Sun, 1, Mohegan Sun Boulevard, Montville, Southeastern Connecticut Planning Region, Connecticut, 06382, United States
END:VEVENT

END:VCALENDAR
