BEGIN:VCALENDAR
VERSION:2.0
PRODID:-//hacksw/handcal//NONSGML v1.0//EN
BEGIN:VEVENT
UID:c4fe852b380ddaee80a9b44c72e4302b
DTSTAMP:20260419T211837Z

DTSTART:20250110T100000
DTEND:20250112T170000
SUMMARY:Sarasota Bradenton Home Show 2025
DESCRIPTION:Come out to enjoy the Sarasota Bradenton Home Show! There will be featured showcases of interior designs, hot tub blowout sale, many exhibitors and vendors and so much more!\n\nSave the date for the Sarasota Bradenton Home Show, coming to Sarasota, FL, on Jan 10th – 12th, 2025. Held at the Sarasota Fairgrounds this event offers a comprehensive look into home and outdoor living trends.\n\nDon't miss this chance to discover new ideas and connect with experts in the field. Whether you're looking to spruce up your home or enhance your outdoor lifestyle, the Sarasota Bradenton Home Show has something for everyone. Join us for a weekend of inspiration, innovation, and excitement!

X-ALT-DESC;FMTTYPE=text/html:<!DOCTYPE HTML PUBLIC "-//W3C//DTD HTML 3.2//EN">\n<HTML>\n<HEAD>\n<META NAME="Generator" CONTENT="MS Exchange Server version 08.00.0681.000">\n<TITLE></TITLE>\n</HEAD>\n<BODY>\n<!-- Converted from text/rtf format -->\n\nCome out to enjoy the Sarasota Bradenton Home Show! There will be featured showcases of interior designs, hot tub blowout sale, many exhibitors and vendors and so much more!<br /><br />Save the date for the Sarasota Bradenton Home Show, coming to Sarasota, FL, on Jan 10th – 12th, 2025. Held at the Sarasota Fairgrounds this event offers a comprehensive look into home and outdoor living trends.<br /><br />Don't miss this chance to discover new ideas and connect with experts in the field. Whether you're looking to spruce up your home or enhance your outdoor lifestyle, the Sarasota Bradenton Home Show has something for everyone. Join us for a weekend of inspiration, innovation, and excitement!\n\n</BODY>\n</HTML>

LOCATION:3000, Ringling Boulevard, Sarasota, Sarasota County, Florida, 34237, United States
END:VEVENT

END:VCALENDAR
