BEGIN:VCALENDAR
VERSION:2.0
PRODID:-//hacksw/handcal//NONSGML v1.0//EN
BEGIN:VEVENT
UID:b577ef054c3c1408a807cf7eb1570e47
DTSTAMP:20260420T123759Z

DTSTART:20250314T100000
DTEND:20250315T160000
SUMMARY:Naples Home & Garden Show 2025
DESCRIPTION:The industry leader in home and garden shows presents the latest in products and services that beautify your home, maximize the efficiency of your space, increase the security of your property and turn your home and garden into your personal paradise.\n\nSee the newest in home improvement products and services - including furnishings, accessories, decorating and remodeling ideas. These are the latest from floor to roof, patio to pool, for inside and out.

X-ALT-DESC;FMTTYPE=text/html:<!DOCTYPE HTML PUBLIC "-//W3C//DTD HTML 3.2//EN">\n<HTML>\n<HEAD>\n<META NAME="Generator" CONTENT="MS Exchange Server version 08.00.0681.000">\n<TITLE></TITLE>\n</HEAD>\n<BODY>\n<!-- Converted from text/rtf format -->\n\nThe industry leader in home and garden shows presents the latest in products and services that beautify your home, maximize the efficiency of your space, increase the security of your property and turn your home and garden into your personal paradise.<br /><br />See the newest in home improvement products and services - including furnishings, accessories, decorating and remodeling ideas. These are the latest from floor to roof, patio to pool, for inside and out.\n\n</BODY>\n</HTML>

LOCATION:Davis Boulevard, Naples, Collier County, Florida, 34102, United States
END:VEVENT

END:VCALENDAR
