BEGIN:VCALENDAR
VERSION:2.0
PRODID:-//hacksw/handcal//NONSGML v1.0//EN
BEGIN:VEVENT
UID:744e7b74c3efbec2b16e8d9dc21ce2cc
DTSTAMP:20260420T041745Z

DTSTART:20250425T100000
DTEND:20250427T170000
SUMMARY:The Big Ocala Home & Garden Show 2025
DESCRIPTION:Save the date for the The Big Ocala Home & Garden Show, coming to Ocala, FL, on Apr 25th – 27th, 2025. Held at the World Equestrian Center this event offers a comprehensive look into home and outdoor living trends.\n\nDon't miss this chance to discover new ideas and connect with experts in the field. Whether you're looking to spruce up your home or enhance your outdoor lifestyle, the The Big Ocala Home & Garden Show has something for everyone. Join us for a weekend of inspiration, innovation, and excitement!

X-ALT-DESC;FMTTYPE=text/html:<!DOCTYPE HTML PUBLIC "-//W3C//DTD HTML 3.2//EN">\n<HTML>\n<HEAD>\n<META NAME="Generator" CONTENT="MS Exchange Server version 08.00.0681.000">\n<TITLE></TITLE>\n</HEAD>\n<BODY>\n<!-- Converted from text/rtf format -->\n\nSave the date for the The Big Ocala Home & Garden Show, coming to Ocala, FL, on Apr 25th – 27th, 2025. Held at the World Equestrian Center this event offers a comprehensive look into home and outdoor living trends.<br /><br />Don't miss this chance to discover new ideas and connect with experts in the field. Whether you're looking to spruce up your home or enhance your outdoor lifestyle, the The Big Ocala Home & Garden Show has something for everyone. Join us for a weekend of inspiration, innovation, and excitement!\n\n</BODY>\n</HTML>

LOCATION:Ocala, Marion County, Florida, United States
END:VEVENT

END:VCALENDAR
