BEGIN:VCALENDAR
VERSION:2.0
PRODID:-//hacksw/handcal//NONSGML v1.0//EN
BEGIN:VEVENT
UID:3c911c4f0f09743e2499c05e346ae47e
DTSTAMP:20260420T004155Z

DTSTART:20250124T100000
DTEND:20250126T170000
SUMMARY:North Atlanta Home Show 2025
DESCRIPTION:The North Atlanta Home & Garden Show is a vibrant marketplace where you can shop for home-related products and services, experience stunning displays to help inspire your next home project, connect with industry experts, and enjoy informative presentations from renowned local and international home professionals.\n\nWhether you’re joining us with a specific project in mind or just looking for some inspiration, our local home professionals have you covered. With 200+ booths to explore and several unique feature displays to enjoy, this is a valuable event for all homeowners.

X-ALT-DESC;FMTTYPE=text/html:<!DOCTYPE HTML PUBLIC "-//W3C//DTD HTML 3.2//EN">\n<HTML>\n<HEAD>\n<META NAME="Generator" CONTENT="MS Exchange Server version 08.00.0681.000">\n<TITLE></TITLE>\n</HEAD>\n<BODY>\n<!-- Converted from text/rtf format -->\n\nThe North Atlanta Home & Garden Show is a vibrant marketplace where you can shop for home-related products and services, experience stunning displays to help inspire your next home project, connect with industry experts, and enjoy informative presentations from renowned local and international home professionals.<br /><br />Whether you’re joining us with a specific project in mind or just looking for some inspiration, our local home professionals have you covered. With 200+ booths to explore and several unique feature displays to enjoy, this is a valuable event for all homeowners.\n\n</BODY>\n</HTML>

LOCATION:Gas South Convention Center, 6400, Sugarloaf Parkway, Duluth, Gwinnett County, Georgia, 30097, United States
END:VEVENT

END:VCALENDAR
