BEGIN:VCALENDAR
VERSION:2.0
PRODID:-//hacksw/handcal//NONSGML v1.0//EN
BEGIN:VEVENT
UID:a77d8f575829b1cd7dd576b80b41b1ee
DTSTAMP:20260419T181942Z

DTSTART:20250214T120000
DTEND:20250216T160000
SUMMARY:Athens Home Expo - February 2025
DESCRIPTION:This free event is the perfect opportunity for homeowners to save BIG on all home improvement projects and meet with local and national vendors face-to-face, offering valuable insights and guidance to help you turn your vision into reality.\n\nWhether you're looking to remodel your kitchen, revamp your outdoor living space, or simply make some updates around the house, this show has everything you need to get started.

X-ALT-DESC;FMTTYPE=text/html:<!DOCTYPE HTML PUBLIC "-//W3C//DTD HTML 3.2//EN">\n<HTML>\n<HEAD>\n<META NAME="Generator" CONTENT="MS Exchange Server version 08.00.0681.000">\n<TITLE></TITLE>\n</HEAD>\n<BODY>\n<!-- Converted from text/rtf format -->\n\nThis free event is the perfect opportunity for homeowners to save BIG on all home improvement projects and meet with local and national vendors face-to-face, offering valuable insights and guidance to help you turn your vision into reality.<br /><br />Whether you're looking to remodel your kitchen, revamp your outdoor living space, or simply make some updates around the house, this show has everything you need to get started.\n\n</BODY>\n</HTML>

LOCATION:The Classic Center, 300, North Thomas Street, Athens-Clarke County Unified Government, Athens-Clarke County, Georgia, 30601, United States
END:VEVENT

END:VCALENDAR
