BEGIN:VCALENDAR
VERSION:2.0
PRODID:-//hacksw/handcal//NONSGML v1.0//EN
BEGIN:VEVENT
UID:097b02389d26ad01d9d77cacf0a964ef
DTSTAMP:20260420T072749Z

DTSTART:20250314T170000
DTEND:20250316T160000
SUMMARY:The Boise Spring Home Show 2025
DESCRIPTION:There will be over 200 displays in all three expo buildings and more outside.\n\nCheck out new ways to update and upgrade, professional tips for remodeling and landscaping. There will be new products on display, expert advice and design ideas.\n\nSave the date for the The Boise Spring Home Show, coming to Boise, ID, on Mar 14th – 16th, 2025. Held at the Expo Idaho this event offers a comprehensive look into home and outdoor living trends.\n\nDon't miss this chance to discover new ideas and connect with experts in the field. Whether you're looking to spruce up your home or enhance your outdoor lifestyle, the The Boise Spring Home Show has something for everyone. Join us for a weekend of inspiration, innovation, and excitement!

X-ALT-DESC;FMTTYPE=text/html:<!DOCTYPE HTML PUBLIC "-//W3C//DTD HTML 3.2//EN">\n<HTML>\n<HEAD>\n<META NAME="Generator" CONTENT="MS Exchange Server version 08.00.0681.000">\n<TITLE></TITLE>\n</HEAD>\n<BODY>\n<!-- Converted from text/rtf format -->\n\nThere will be over 200 displays in all three expo buildings and more outside.<br /><br />Check out new ways to update and upgrade, professional tips for remodeling and landscaping. There will be new products on display, expert advice and design ideas.<br /><br />Save the date for the The Boise Spring Home Show, coming to Boise, ID, on Mar 14th – 16th, 2025. Held at the Expo Idaho this event offers a comprehensive look into home and outdoor living trends.<br /><br />Don't miss this chance to discover new ideas and connect with experts in the field. Whether you're looking to spruce up your home or enhance your outdoor lifestyle, the The Boise Spring Home Show has something for everyone. Join us for a weekend of inspiration, innovation, and excitement!\n\n</BODY>\n</HTML>

LOCATION:North Glenwood Street, Boise, Ada County, Idaho, 83714, United States
END:VEVENT

END:VCALENDAR
