BEGIN:VCALENDAR
VERSION:2.0
PRODID:-//hacksw/handcal//NONSGML v1.0//EN
BEGIN:VEVENT
UID:692342094620955916b7baaf5fbd0ad1
DTSTAMP:20260420T124025Z

DTSTART:20250207T120000
DTEND:20250209T170000
SUMMARY:Indiana Home & Garden Show 2025
DESCRIPTION:The Indiana Home and Garden Show wants to connect you to the area's leading remodelers, builders and design professionals! They'll have displays and exhibits, opportunities to speak to experts and even more events. There will be opportunities to receive advice and inspiration.\n\nSave the date for the Indiana Home & Garden Show, coming to Indianapolis, IN, on Feb 7th – 9th, 2025. Held at the Indiana Convention Center this event offers a comprehensive look into home and outdoor living trends.\n\nDon't miss this chance to discover new ideas and connect with experts in the field. Whether you're looking to spruce up your home or enhance your outdoor lifestyle, the Indiana Home & Garden Show has something for everyone. Join us for a weekend of inspiration, innovation, and excitement!

X-ALT-DESC;FMTTYPE=text/html:<!DOCTYPE HTML PUBLIC "-//W3C//DTD HTML 3.2//EN">\n<HTML>\n<HEAD>\n<META NAME="Generator" CONTENT="MS Exchange Server version 08.00.0681.000">\n<TITLE></TITLE>\n</HEAD>\n<BODY>\n<!-- Converted from text/rtf format -->\n\nThe Indiana Home and Garden Show wants to connect you to the area's leading remodelers, builders and design professionals! They'll have displays and exhibits, opportunities to speak to experts and even more events. There will be opportunities to receive advice and inspiration.<br /><br />Save the date for the Indiana Home & Garden Show, coming to Indianapolis, IN, on Feb 7th – 9th, 2025. Held at the Indiana Convention Center this event offers a comprehensive look into home and outdoor living trends.<br /><br />Don't miss this chance to discover new ideas and connect with experts in the field. Whether you're looking to spruce up your home or enhance your outdoor lifestyle, the Indiana Home & Garden Show has something for everyone. Join us for a weekend of inspiration, innovation, and excitement!\n\n</BODY>\n</HTML>

LOCATION:Indiana Convention Center, 100, South Capitol Avenue, Indianapolis, Marion, Indiana, 46225, United States
END:VEVENT

END:VCALENDAR
