BEGIN:VCALENDAR
VERSION:2.0
PRODID:-//hacksw/handcal//NONSGML v1.0//EN
BEGIN:VEVENT
UID:a0a99c684bff6b85cce18ff80165010b
DTSTAMP:20260420T105805Z

DTSTART:20250228T100000
DTEND:20250302T170000
SUMMARY:Louisville Home, Garden and Remodeling Show 2025
DESCRIPTION:The Louisville Home, Garden & Remodeling Show is a vibrant marketplace where you can shop for home-related products and services, experience stunning displays to help inspire your next home project, connect with industry experts, and enjoy informative presentations from renowned local and international home professionals.\n\nWhether you’re joining us with a specific project in mind or just looking for some inspiration, our local home professionals have you covered. With 200+ booths to explore and several unique feature displays to enjoy, this is a valuable event for all homeowners.

X-ALT-DESC;FMTTYPE=text/html:<!DOCTYPE HTML PUBLIC "-//W3C//DTD HTML 3.2//EN">\n<HTML>\n<HEAD>\n<META NAME="Generator" CONTENT="MS Exchange Server version 08.00.0681.000">\n<TITLE></TITLE>\n</HEAD>\n<BODY>\n<!-- Converted from text/rtf format -->\n\nThe Louisville Home, Garden & Remodeling Show is a vibrant marketplace where you can shop for home-related products and services, experience stunning displays to help inspire your next home project, connect with industry experts, and enjoy informative presentations from renowned local and international home professionals.<br /><br />Whether you’re joining us with a specific project in mind or just looking for some inspiration, our local home professionals have you covered. With 200+ booths to explore and several unique feature displays to enjoy, this is a valuable event for all homeowners.\n\n</BODY>\n</HTML>

LOCATION:Kentucky Exposition Center, 937, Phillips Lane, Prestonia, Louisville, Jefferson County, Kentucky, 40209, United States
END:VEVENT

END:VCALENDAR
