BEGIN:VCALENDAR
VERSION:2.0
PRODID:-//hacksw/handcal//NONSGML v1.0//EN
BEGIN:VEVENT
UID:774df4e50b54109c1900b6749bdc1ca8
DTSTAMP:20260420T044410Z

DTSTART:20251004T100000
DTEND:20251005T170000
SUMMARY:Louisville Home Show 2025
DESCRIPTION:Come out to enjoy the Louisville Home Show! There will be featured showcases of interior designs from numerous exhibitors, vendors and so much more!\n\nSave the date for the Louisville Home Show, coming to Louisville, KY, on Oct 4th – 5th, 2025. Held at the Kentucky Exposition Center this event offers a comprehensive look into home and outdoor living trends.\n\nDon't miss this chance to discover new ideas and connect with experts in the field. Whether you're looking to spruce up your home or enhance your outdoor lifestyle, the Louisville Home Show has something for everyone. Join us for a weekend of inspiration, innovation, and excitement!

X-ALT-DESC;FMTTYPE=text/html:<!DOCTYPE HTML PUBLIC "-//W3C//DTD HTML 3.2//EN">\n<HTML>\n<HEAD>\n<META NAME="Generator" CONTENT="MS Exchange Server version 08.00.0681.000">\n<TITLE></TITLE>\n</HEAD>\n<BODY>\n<!-- Converted from text/rtf format -->\n\nCome out to enjoy the Louisville Home Show! There will be featured showcases of interior designs from numerous exhibitors, vendors and so much more!<br /><br />Save the date for the Louisville Home Show, coming to Louisville, KY, on Oct 4th – 5th, 2025. Held at the Kentucky Exposition Center this event offers a comprehensive look into home and outdoor living trends.<br /><br />Don't miss this chance to discover new ideas and connect with experts in the field. Whether you're looking to spruce up your home or enhance your outdoor lifestyle, the Louisville Home Show has something for everyone. Join us for a weekend of inspiration, innovation, and excitement!\n\n</BODY>\n</HTML>

LOCATION:Kentucky Exposition Center, 937, Phillips Lane, Prestonia, Louisville, Jefferson County, Kentucky, 40209, United States
END:VEVENT

END:VCALENDAR
