BEGIN:VCALENDAR
VERSION:2.0
PRODID:-//hacksw/handcal//NONSGML v1.0//EN
BEGIN:VEVENT
UID:7e4974e749a0490653ce95ccc1b2e4e4
DTSTAMP:20260420T042229Z

DTSTART:20250426T100000
DTEND:20250427T170000
SUMMARY:Baton Rouge Home Show 2025
DESCRIPTION:Save the date for the Baton Rouge Home Show, coming to Gonzales, LA, on Apr 26th – 27th, 2025. Held at the Lamar-Dixon Expo Center this event offers a comprehensive look into home and outdoor living trends.\n\nDon't miss this chance to discover new ideas and connect with experts in the field. Whether you're looking to spruce up your home or enhance your outdoor lifestyle, the Baton Rouge Home Show has something for everyone. Join us for a weekend of inspiration, innovation, and excitement!

X-ALT-DESC;FMTTYPE=text/html:<!DOCTYPE HTML PUBLIC "-//W3C//DTD HTML 3.2//EN">\n<HTML>\n<HEAD>\n<META NAME="Generator" CONTENT="MS Exchange Server version 08.00.0681.000">\n<TITLE></TITLE>\n</HEAD>\n<BODY>\n<!-- Converted from text/rtf format -->\n\nSave the date for the Baton Rouge Home Show, coming to Gonzales, LA, on Apr 26th – 27th, 2025. Held at the Lamar-Dixon Expo Center this event offers a comprehensive look into home and outdoor living trends.<br /><br />Don't miss this chance to discover new ideas and connect with experts in the field. Whether you're looking to spruce up your home or enhance your outdoor lifestyle, the Baton Rouge Home Show has something for everyone. Join us for a weekend of inspiration, innovation, and excitement!\n\n</BODY>\n</HTML>

LOCATION:9039, South Saint Landry Avenue, Lamar Dixon Expo Center, Gonzales, Ascension Parish, Louisiana, 70737, United States
END:VEVENT

END:VCALENDAR
