BEGIN:VCALENDAR
VERSION:2.0
PRODID:-//hacksw/handcal//NONSGML v1.0//EN
BEGIN:VEVENT
UID:043906f6992eeab8476e18934e174038
DTSTAMP:20260420T005612Z

DTSTART:20250307T160000
DTEND:20250309T140000
SUMMARY:The Builders Show 2025
DESCRIPTION:Save the date for the The Builders Show, coming to Marquette, MI, on Mar 7th – 9th, 2025. Held at the NMU Superior Dome this event offers a comprehensive look into home and outdoor living trends.\n\nDon't miss this chance to discover new ideas and connect with experts in the field. Whether you're looking to spruce up your home or enhance your outdoor lifestyle, the The Builders Show has something for everyone. Join us for a weekend of inspiration, innovation, and excitement!

X-ALT-DESC;FMTTYPE=text/html:<!DOCTYPE HTML PUBLIC "-//W3C//DTD HTML 3.2//EN">\n<HTML>\n<HEAD>\n<META NAME="Generator" CONTENT="MS Exchange Server version 08.00.0681.000">\n<TITLE></TITLE>\n</HEAD>\n<BODY>\n<!-- Converted from text/rtf format -->\n\nSave the date for the The Builders Show, coming to Marquette, MI, on Mar 7th – 9th, 2025. Held at the NMU Superior Dome this event offers a comprehensive look into home and outdoor living trends.<br /><br />Don't miss this chance to discover new ideas and connect with experts in the field. Whether you're looking to spruce up your home or enhance your outdoor lifestyle, the The Builders Show has something for everyone. Join us for a weekend of inspiration, innovation, and excitement!\n\n</BODY>\n</HTML>

LOCATION:1401, Presque Isle Avenue, Marquette, Marquette County, Michigan, 49855, United States
END:VEVENT

END:VCALENDAR
