BEGIN:VCALENDAR
VERSION:2.0
PRODID:-//hacksw/handcal//NONSGML v1.0//EN
BEGIN:VEVENT
UID:9e7ba68a15e5fa29c2961e9f1a55e1f7
DTSTAMP:20260420T041745Z

DTSTART:20250403T150000
DTEND:20250406T160000
SUMMARY:Arrowhead Home and Builders Show 2025
DESCRIPTION:The Arrowhead Home & Builders Show is the largest home show in the Arrowhead Region and is your one-stop destination for building, remodeling and home and garden products!\n\nThis is the place to see what’s new and to learn about the latest trends and technology for your home all under one roof! Stop by and meet the area’s top experts who can help create your dream home!

X-ALT-DESC;FMTTYPE=text/html:<!DOCTYPE HTML PUBLIC "-//W3C//DTD HTML 3.2//EN">\n<HTML>\n<HEAD>\n<META NAME="Generator" CONTENT="MS Exchange Server version 08.00.0681.000">\n<TITLE></TITLE>\n</HEAD>\n<BODY>\n<!-- Converted from text/rtf format -->\n\nThe Arrowhead Home & Builders Show is the largest home show in the Arrowhead Region and is your one-stop destination for building, remodeling and home and garden products!<br /><br />This is the place to see what’s new and to learn about the latest trends and technology for your home all under one roof! Stop by and meet the area’s top experts who can help create your dream home!\n\n</BODY>\n</HTML>

LOCATION:350, Harbor Drive, Central Business District, Duluth, Saint Louis County, Minnesota, 55802, United States
END:VEVENT

END:VCALENDAR
