BEGIN:VCALENDAR
VERSION:2.0
PRODID:-//hacksw/handcal//NONSGML v1.0//EN
BEGIN:VEVENT
UID:6ba1a5b8231e4faf7ac528a170d78dec
DTSTAMP:20260420T124053Z

DTSTART:20250307T120000
DTEND:20250309T170000
SUMMARY:Billings Spring Home Improvement Show 2025
DESCRIPTION:Rimrock Promotions, the region's number one Home Show Producers will be holding their annual Home Improvement Show at the Expo Center and Montana Pavilion, Montana's newest and largest modern exhibition facilities.\n\nOver 650 exhibits will be open to 30,000+ people attending the show, making it the largest attended Home Show in a five state area. With Spring right around the corner, now is the time to exhibit your products and services.

X-ALT-DESC;FMTTYPE=text/html:<!DOCTYPE HTML PUBLIC "-//W3C//DTD HTML 3.2//EN">\n<HTML>\n<HEAD>\n<META NAME="Generator" CONTENT="MS Exchange Server version 08.00.0681.000">\n<TITLE></TITLE>\n</HEAD>\n<BODY>\n<!-- Converted from text/rtf format -->\n\nRimrock Promotions, the region's number one Home Show Producers will be holding their annual Home Improvement Show at the Expo Center and Montana Pavilion, Montana's newest and largest modern exhibition facilities.<br /><br />Over 650 exhibits will be open to 30,000+ people attending the show, making it the largest attended Home Show in a five state area. With Spring right around the corner, now is the time to exhibit your products and services.\n\n</BODY>\n</HTML>

LOCATION:MetraPark Arena, 308, 6th Avenue North, East Downtown, Billings, Yellowstone County, Montana, 59101, United States
END:VEVENT

END:VCALENDAR
