BEGIN:VCALENDAR
VERSION:2.0
PRODID:-//hacksw/handcal//NONSGML v1.0//EN
BEGIN:VEVENT
UID:3b63a89d0baa78d5b52db7975baa6521
DTSTAMP:20260420T004241Z

DTSTART:20250225T080000
DTEND:20250227T170000
SUMMARY:International Builders’ Show (IBS) 2025
DESCRIPTION:The next big idea. The strategies and trends. The products, connections and experts you won’t see anywhere else. It’s all HERE at the in-person show in Las Vegas!\n\nThe NAHB International Builders' Show® (IBS)—the premier, once-a-year event that connects, educates and improves the residential construction industry—is a hub for new product launches, construction demos, industry thought leader sessions, workshops, panel discussions…and more. The people, products and knowledge you’ll gain will give you the real ideas and real solutions you need to grow and strengthen your essential business.

X-ALT-DESC;FMTTYPE=text/html:<!DOCTYPE HTML PUBLIC "-//W3C//DTD HTML 3.2//EN">\n<HTML>\n<HEAD>\n<META NAME="Generator" CONTENT="MS Exchange Server version 08.00.0681.000">\n<TITLE></TITLE>\n</HEAD>\n<BODY>\n<!-- Converted from text/rtf format -->\n\nThe next big idea. The strategies and trends. The products, connections and experts you won’t see anywhere else. It’s all HERE at the in-person show in Las Vegas!<br /><br />The NAHB International Builders' Show® (IBS)—the premier, once-a-year event that connects, educates and improves the residential construction industry—is a hub for new product launches, construction demos, industry thought leader sessions, workshops, panel discussions…and more. The people, products and knowledge you’ll gain will give you the real ideas and real solutions you need to grow and strengthen your essential business.\n\n</BODY>\n</HTML>

LOCATION:Las Vegas Convention Center, 3150, Paradise Road, Las Vegas, Clark County, Nevada, 89109, United States
END:VEVENT

END:VCALENDAR
