BEGIN:VCALENDAR
VERSION:2.0
PRODID:-//hacksw/handcal//NONSGML v1.0//EN
BEGIN:VEVENT
UID:86dfc96179d638f51c8b304d315d2376
DTSTAMP:20260420T042112Z

DTSTART:20250405T100000
DTEND:20250406T170000
SUMMARY:Binghamton Home Show 2025
DESCRIPTION:Save the date for the Binghamton Home Show, coming to Binghamton, NY, on Apr 5th – 6th, 2025. Held at the SUNY Broome Ice Center this event offers a comprehensive look into home and outdoor living trends.\n\nDon't miss this chance to discover new ideas and connect with experts in the field. Whether you're looking to spruce up your home or enhance your outdoor lifestyle, the Binghamton Home Show has something for everyone. Join us for a weekend of inspiration, innovation, and excitement!

X-ALT-DESC;FMTTYPE=text/html:<!DOCTYPE HTML PUBLIC "-//W3C//DTD HTML 3.2//EN">\n<HTML>\n<HEAD>\n<META NAME="Generator" CONTENT="MS Exchange Server version 08.00.0681.000">\n<TITLE></TITLE>\n</HEAD>\n<BODY>\n<!-- Converted from text/rtf format -->\n\nSave the date for the Binghamton Home Show, coming to Binghamton, NY, on Apr 5th – 6th, 2025. Held at the SUNY Broome Ice Center this event offers a comprehensive look into home and outdoor living trends.<br /><br />Don't miss this chance to discover new ideas and connect with experts in the field. Whether you're looking to spruce up your home or enhance your outdoor lifestyle, the Binghamton Home Show has something for everyone. Join us for a weekend of inspiration, innovation, and excitement!\n\n</BODY>\n</HTML>

LOCATION:907, Upper Front Street, City of Binghamton, Town of Dickinson, Broome County, New York, 13905, United States
END:VEVENT

END:VCALENDAR
