BEGIN:VCALENDAR
VERSION:2.0
PRODID:-//hacksw/handcal//NONSGML v1.0//EN
BEGIN:VEVENT
UID:4afd33d5a65511af1eb7e0aaa72f6080
DTSTAMP:20260420T055227Z

DTSTART:20241210T090000
DTEND:20241210T110000
SUMMARY:Increase Buying Power – Understand Credit Scores
DESCRIPTION:In this 2 hour class you will learn credit score changes, scoring models and how they are calculated, the best mix of credit to optimize buying potential and score along with the do’s and don’t when considering a new purchase or refinance. Learn how derogatory information may affect credit and buying potential along with how to protect from identity theft and fraud.\n\nCredits - 2\nCost - $10

X-ALT-DESC;FMTTYPE=text/html:<!DOCTYPE HTML PUBLIC "-//W3C//DTD HTML 3.2//EN">\n<HTML>\n<HEAD>\n<META NAME="Generator" CONTENT="MS Exchange Server version 08.00.0681.000">\n<TITLE></TITLE>\n</HEAD>\n<BODY>\n<!-- Converted from text/rtf format -->\n\nIn this 2 hour class you will learn credit score changes, scoring models and how they are calculated, the best mix of credit to optimize buying potential and score along with the do’s and don’t when considering a new purchase or refinance. Learn how derogatory information may affect credit and buying potential along with how to protect from identity theft and fraud.<br /><br />Credits - 2<br />Cost - $10\n\n</BODY>\n</HTML>

LOCATION:
END:VEVENT

END:VCALENDAR
