BEGIN:VCALENDAR
VERSION:2.0
PRODID:-//hacksw/handcal//NONSGML v1.0//EN
BEGIN:VEVENT
UID:6710e283f0da5b6f25b842a48ee03682
DTSTAMP:20260420T070620Z

DTSTART:20250110T100000
DTEND:20250112T170000
SUMMARY:Downtown Raleigh Home Show 2025
DESCRIPTION:The Downtown Raleigh Home Show is a vibrant marketplace where you can shop for home-related products and services, experience stunning displays to help inspire your next home project, connect with industry experts, and enjoy informative presentations from renowned local and international home professionals.\n\nWhether you’re joining us with a specific project in mind or just looking for some inspiration, our local home professionals have you covered. With 200+ booths to explore and several unique feature displays to enjoy, this is a valuable event for all homeowners.

X-ALT-DESC;FMTTYPE=text/html:<!DOCTYPE HTML PUBLIC "-//W3C//DTD HTML 3.2//EN">\n<HTML>\n<HEAD>\n<META NAME="Generator" CONTENT="MS Exchange Server version 08.00.0681.000">\n<TITLE></TITLE>\n</HEAD>\n<BODY>\n<!-- Converted from text/rtf format -->\n\nThe Downtown Raleigh Home Show is a vibrant marketplace where you can shop for home-related products and services, experience stunning displays to help inspire your next home project, connect with industry experts, and enjoy informative presentations from renowned local and international home professionals.<br /><br />Whether you’re joining us with a specific project in mind or just looking for some inspiration, our local home professionals have you covered. With 200+ booths to explore and several unique feature displays to enjoy, this is a valuable event for all homeowners.\n\n</BODY>\n</HTML>

LOCATION:Raleigh Convention Center, 500, South Salisbury Street, Warehouse District, Raleigh, Wake County, North Carolina, 27601, United States
END:VEVENT

END:VCALENDAR
