BEGIN:VCALENDAR
VERSION:2.0
PRODID:-//hacksw/handcal//NONSGML v1.0//EN
BEGIN:VEVENT
UID:b15b9a3ca3fb54f7b4c2a1bcb83c3903
DTSTAMP:20260420T092718Z

DTSTART:20250215T100000
DTEND:20250216T170000
SUMMARY:Wilmington Home Show 2025
DESCRIPTION:Come out to enjoy the Wilmington Home Show! There will be featured showcases of interior designs from numerous exhibitors, vendors and so much more!\n\nSave the date for the Wilmington Home Show, coming to Wilmington, NC, on Feb 15th – 16th, 2025. Held at the Wilmington Convention Center this event offers a comprehensive look into home and outdoor living trends.\n\nDon't miss this chance to discover new ideas and connect with experts in the field. Whether you're looking to spruce up your home or enhance your outdoor lifestyle, the Wilmington Home Show has something for everyone. Join us for a weekend of inspiration, innovation, and excitement!

X-ALT-DESC;FMTTYPE=text/html:<!DOCTYPE HTML PUBLIC "-//W3C//DTD HTML 3.2//EN">\n<HTML>\n<HEAD>\n<META NAME="Generator" CONTENT="MS Exchange Server version 08.00.0681.000">\n<TITLE></TITLE>\n</HEAD>\n<BODY>\n<!-- Converted from text/rtf format -->\n\nCome out to enjoy the Wilmington Home Show! There will be featured showcases of interior designs from numerous exhibitors, vendors and so much more!<br /><br />Save the date for the Wilmington Home Show, coming to Wilmington, NC, on Feb 15th – 16th, 2025. Held at the Wilmington Convention Center this event offers a comprehensive look into home and outdoor living trends.<br /><br />Don't miss this chance to discover new ideas and connect with experts in the field. Whether you're looking to spruce up your home or enhance your outdoor lifestyle, the Wilmington Home Show has something for everyone. Join us for a weekend of inspiration, innovation, and excitement!\n\n</BODY>\n</HTML>

LOCATION:515, Nutt Street, Wilmington, New Hanover County, North Carolina, 28401, United States
END:VEVENT

END:VCALENDAR
