BEGIN:VCALENDAR
VERSION:2.0
PRODID:-//hacksw/handcal//NONSGML v1.0//EN
BEGIN:VEVENT
UID:70a4569b8304aec460a62d1a84b63f50
DTSTAMP:20260420T134940Z

DTSTART:20250329T100000
DTEND:20250329T180000
SUMMARY:Forx Builders Association Spring Expo 2025
DESCRIPTION:The Home & Garden Show is now the SPRING EXPO!\n\nThe same great show you've come to know but now with added exhibitors and new attractions. Still your one stop shop for all your home design, decorating, landscaping, spring and summer entertainment needs. New exhibitors, new attractions; all things home & spring.

X-ALT-DESC;FMTTYPE=text/html:<!DOCTYPE HTML PUBLIC "-//W3C//DTD HTML 3.2//EN">\n<HTML>\n<HEAD>\n<META NAME="Generator" CONTENT="MS Exchange Server version 08.00.0681.000">\n<TITLE></TITLE>\n</HEAD>\n<BODY>\n<!-- Converted from text/rtf format -->\n\nThe Home & Garden Show is now the SPRING EXPO!<br /><br />The same great show you've come to know but now with added exhibitors and new attractions. Still your one stop shop for all your home design, decorating, landscaping, spring and summer entertainment needs. New exhibitors, new attractions; all things home & spring.\n\n</BODY>\n</HTML>

LOCATION:Purpur & Gambucci Arenas, 1122, 7th Avenue South, Grand Forks, Grand Forks County, North Dakota, 58201, United States
END:VEVENT

END:VCALENDAR
