BEGIN:VCALENDAR
VERSION:2.0
PRODID:-//hacksw/handcal//NONSGML v1.0//EN
BEGIN:VEVENT
UID:d99c1f83131fc8e4c943a2778ed8c330
DTSTAMP:20260419T231041Z

DTSTART:20250516T120000
DTEND:20250518T160000
SUMMARY:Dayton Home Expo - May 2025
DESCRIPTION:Save the date for the Dayton Home Expo, coming to Dayton, OH, on May 16th – 18th, 2025. Held at the Montgomery County Fairgrounds this event offers a comprehensive look into home and outdoor living trends.\n\nDon't miss this chance to discover new ideas and connect with experts in the field. Whether you're looking to spruce up your home or enhance your outdoor lifestyle, the Dayton Home Expo has something for everyone. Join us for a weekend of inspiration, innovation, and excitement!

X-ALT-DESC;FMTTYPE=text/html:<!DOCTYPE HTML PUBLIC "-//W3C//DTD HTML 3.2//EN">\n<HTML>\n<HEAD>\n<META NAME="Generator" CONTENT="MS Exchange Server version 08.00.0681.000">\n<TITLE></TITLE>\n</HEAD>\n<BODY>\n<!-- Converted from text/rtf format -->\n\nSave the date for the Dayton Home Expo, coming to Dayton, OH, on May 16th – 18th, 2025. Held at the Montgomery County Fairgrounds this event offers a comprehensive look into home and outdoor living trends.<br /><br />Don't miss this chance to discover new ideas and connect with experts in the field. Whether you're looking to spruce up your home or enhance your outdoor lifestyle, the Dayton Home Expo has something for everyone. Join us for a weekend of inspiration, innovation, and excitement!\n\n</BODY>\n</HTML>

LOCATION:Dayton, Montgomery County, Ohio, United States
END:VEVENT

END:VCALENDAR
