BEGIN:VCALENDAR
VERSION:2.0
PRODID:-//hacksw/handcal//NONSGML v1.0//EN
BEGIN:VEVENT
UID:7de6de1b1cbf41ba9039d3f0aeca8d1a
DTSTAMP:20260420T063445Z

DTSTART:20250131T140000
DTEND:20250202T170000
SUMMARY:Northeastern Pennsylvania Home and Garden Show 2025
DESCRIPTION:The Northeastern Pennsylvania Home and Garden Show features outdoor living specialties for landscapes, gardening and more.\n\nYou'll find just about everything you'll need for your home and garden at this show, including home improvement professionals that can turn your dreams into a reality.

X-ALT-DESC;FMTTYPE=text/html:<!DOCTYPE HTML PUBLIC "-//W3C//DTD HTML 3.2//EN">\n<HTML>\n<HEAD>\n<META NAME="Generator" CONTENT="MS Exchange Server version 08.00.0681.000">\n<TITLE></TITLE>\n</HEAD>\n<BODY>\n<!-- Converted from text/rtf format -->\n\nThe Northeastern Pennsylvania Home and Garden Show features outdoor living specialties for landscapes, gardening and more.<br /><br />You'll find just about everything you'll need for your home and garden at this show, including home improvement professionals that can turn your dreams into a reality.\n\n</BODY>\n</HTML>

LOCATION:Highland Park Boulevard, Wilkes-Barre Township, Luzerne County, Pennsylvania, 18702, United States
END:VEVENT

END:VCALENDAR
