BEGIN:VCALENDAR
VERSION:2.0
PRODID:-//hacksw/handcal//NONSGML v1.0//EN
BEGIN:VEVENT
UID:a7d2b4bea9b5d406b148dc2dd70e398e
DTSTAMP:20260420T172711Z

DTSTART:20250801T120000
DTEND:20250803T160000
SUMMARY:Appalachian Fair Home Show - August 2025
DESCRIPTION:Save the date for the Appalachian Fair Home Show, coming to Gray, TN, on Aug 1st – 3rd, 2025. Held at the Appalachian Fairgrounds this event offers a comprehensive look into home and outdoor living trends.\n\nDon't miss this chance to discover new ideas and connect with experts in the field. Whether you're looking to spruce up your home or enhance your outdoor lifestyle, the Appalachian Fair Home Show has something for everyone. Join us for a weekend of inspiration, innovation, and excitement!

X-ALT-DESC;FMTTYPE=text/html:<!DOCTYPE HTML PUBLIC "-//W3C//DTD HTML 3.2//EN">\n<HTML>\n<HEAD>\n<META NAME="Generator" CONTENT="MS Exchange Server version 08.00.0681.000">\n<TITLE></TITLE>\n</HEAD>\n<BODY>\n<!-- Converted from text/rtf format -->\n\nSave the date for the Appalachian Fair Home Show, coming to Gray, TN, on Aug 1st – 3rd, 2025. Held at the Appalachian Fairgrounds this event offers a comprehensive look into home and outdoor living trends.<br /><br />Don't miss this chance to discover new ideas and connect with experts in the field. Whether you're looking to spruce up your home or enhance your outdoor lifestyle, the Appalachian Fair Home Show has something for everyone. Join us for a weekend of inspiration, innovation, and excitement!\n\n</BODY>\n</HTML>

LOCATION:100, Lakeview Street, Gray, Washington County, East Tennessee, Tennessee, 37615, United States
END:VEVENT

END:VCALENDAR
