BEGIN:VCALENDAR
VERSION:2.0
PRODID:-//hacksw/handcal//NONSGML v1.0//EN
BEGIN:VEVENT
UID:e521e7bf0ab2604a6fd745725ae79c20
DTSTAMP:20260420T093604Z

DTSTART:20250322T100000
DTEND:20250323T170000
SUMMARY:Cy-Fair Home and Outdoor Living Show 2025
DESCRIPTION:Join us at the Cy-Fair Home & Outdoor Living Show this Spring. Our show helps you to find home goods, seasonal decor, artisan furniture, products and the right professionals for any type of home improvement or DIY project you have. Create your dream home with our home improvement professionals. We can't wait to see you!

X-ALT-DESC;FMTTYPE=text/html:<!DOCTYPE HTML PUBLIC "-//W3C//DTD HTML 3.2//EN">\n<HTML>\n<HEAD>\n<META NAME="Generator" CONTENT="MS Exchange Server version 08.00.0681.000">\n<TITLE></TITLE>\n</HEAD>\n<BODY>\n<!-- Converted from text/rtf format -->\n\nJoin us at the Cy-Fair Home & Outdoor Living Show this Spring. Our show helps you to find home goods, seasonal decor, artisan furniture, products and the right professionals for any type of home improvement or DIY project you have. Create your dream home with our home improvement professionals. We can't wait to see you!\n\n</BODY>\n</HTML>

LOCATION:Barker Cypress Road, Cypress Country South, Cypress, Harris County, Texas, 77429, United States
END:VEVENT

END:VCALENDAR
