BEGIN:VCALENDAR
VERSION:2.0
PRODID:-//hacksw/handcal//NONSGML v1.0//EN
BEGIN:VEVENT
UID:3a68b7f649bdd4279779f176a1150c2e
DTSTAMP:20260420T041330Z

DTSTART:20250927T100000
DTEND:20250928T170000
SUMMARY:Austin Home Show 2025
DESCRIPTION:Save the date for the Austin Home Show, coming to Round Rock, TX, on Sep 27th – 28th, 2025. Held at the Kalahari Resorts & Conventions this event offers a comprehensive look into home and outdoor living trends.\n\nDon't miss this chance to discover new ideas and connect with experts in the field. Whether you're looking to spruce up your home or enhance your outdoor lifestyle, the Austin Home Show has something for everyone. Join us for a weekend of inspiration, innovation, and excitement!

X-ALT-DESC;FMTTYPE=text/html:<!DOCTYPE HTML PUBLIC "-//W3C//DTD HTML 3.2//EN">\n<HTML>\n<HEAD>\n<META NAME="Generator" CONTENT="MS Exchange Server version 08.00.0681.000">\n<TITLE></TITLE>\n</HEAD>\n<BODY>\n<!-- Converted from text/rtf format -->\n\nSave the date for the Austin Home Show, coming to Round Rock, TX, on Sep 27th – 28th, 2025. Held at the Kalahari Resorts & Conventions this event offers a comprehensive look into home and outdoor living trends.<br /><br />Don't miss this chance to discover new ideas and connect with experts in the field. Whether you're looking to spruce up your home or enhance your outdoor lifestyle, the Austin Home Show has something for everyone. Join us for a weekend of inspiration, innovation, and excitement!\n\n</BODY>\n</HTML>

LOCATION:Kalahari Resort and Conventions Texas, 3001, Kalahari Boulevard, Round Rock, Williamson County, Texas, 78665, United States
END:VEVENT

END:VCALENDAR
