BEGIN:VCALENDAR
VERSION:2.0
PRODID:-//hacksw/handcal//NONSGML v1.0//EN
BEGIN:VEVENT
UID:39baeade7021bc5e42fbfd7f4dd9990c
DTSTAMP:20260420T070555Z

DTSTART:20250313T100000
DTEND:20250313T140000
SUMMARY:2025 Annual Commission Update Webinar - March 13
DESCRIPTION:Thursday, March 13th 2025 from 10:00 AM – 2:00 PM\nPresented By Beth Anne Demeter of The Educated Agent\n4 CE | $40\n\nThis mandatory 4 CE Annual Commission Update class is required annually for every licensed Colorado agent. The webinar provides the latest updates for 2025 with reference to materials from August 2024. After registering, you will be provided with a Zoom link one day prior to the webinar date.

X-ALT-DESC;FMTTYPE=text/html:<!DOCTYPE HTML PUBLIC "-//W3C//DTD HTML 3.2//EN">\n<HTML>\n<HEAD>\n<META NAME="Generator" CONTENT="MS Exchange Server version 08.00.0681.000">\n<TITLE></TITLE>\n</HEAD>\n<BODY>\n<!-- Converted from text/rtf format -->\n\nThursday, March 13th 2025 from 10:00 AM – 2:00 PM<br />Presented By Beth Anne Demeter of The Educated Agent<br />4 CE | $40<br /><br />This mandatory 4 CE Annual Commission Update class is required annually for every licensed Colorado agent. The webinar provides the latest updates for 2025 with reference to materials from August 2024. After registering, you will be provided with a Zoom link one day prior to the webinar date.\n\n</BODY>\n</HTML>

LOCATION:
END:VEVENT

END:VCALENDAR
