BEGIN:VCALENDAR
VERSION:2.0
PRODID:-//hacksw/handcal//NONSGML v1.0//EN
BEGIN:VEVENT
UID:0477d4ca6936621239517b8661deffa0
DTSTAMP:20260420T034939Z

DTSTART:20250408T080000
DTEND:20250409T160000
SUMMARY:REALTOR® Broker Summit 2025
DESCRIPTION:Looking to grow your business, stay ahead of market shifts, and connect with top professionals in the industry? This event will give you essential tools to boost recruitment, retention, and overall business success.

X-ALT-DESC;FMTTYPE=text/html:<!DOCTYPE HTML PUBLIC "-//W3C//DTD HTML 3.2//EN">\n<HTML>\n<HEAD>\n<META NAME="Generator" CONTENT="MS Exchange Server version 08.00.0681.000">\n<TITLE></TITLE>\n</HEAD>\n<BODY>\n<!-- Converted from text/rtf format -->\n\nLooking to grow your business, stay ahead of market shifts, and connect with top professionals in the industry? This event will give you essential tools to boost recruitment, retention, and overall business success.\n\n</BODY>\n</HTML>

LOCATION:Louisville Marriott Downtown, 280, West Jefferson Street, Louisville, Jefferson County, Kentucky, 40202, United States
END:VEVENT

END:VCALENDAR
