BEGIN:VCALENDAR
VERSION:2.0
PRODID:-//hacksw/handcal//NONSGML v1.0//EN
BEGIN:VEVENT
UID:9836b5c3bce3307808a1fa8e75f38f26
DTSTAMP:20260421T015512Z

DTSTART:20250324T070000
DTEND:20250326T170000
SUMMARY:2025 Homeownership & Housing Policy Conference
DESCRIPTION:"Celebrate NAHREP’s 25th anniversary at the 2025 Homeownership & Housing Policy Conference, where industry leaders, government officials, policymakers, and advocates come together to shape the future of Hispanic homeownership and economic prosperity.\n\nDiscover fundamental strategies through exclusive briefings, panel discussions, and workshops on market trends, housing supply, and mortgage lending insights. Engage in critical conversations shaping housing policy and connect with peers dedicated to driving meaningful change, equipping you to navigate an evolving market."

X-ALT-DESC;FMTTYPE=text/html:<!DOCTYPE HTML PUBLIC "-//W3C//DTD HTML 3.2//EN">\n<HTML>\n<HEAD>\n<META NAME="Generator" CONTENT="MS Exchange Server version 08.00.0681.000">\n<TITLE></TITLE>\n</HEAD>\n<BODY>\n<!-- Converted from text/rtf format -->\n\n"Celebrate NAHREP’s 25th anniversary at the 2025 Homeownership & Housing Policy Conference, where industry leaders, government officials, policymakers, and advocates come together to shape the future of Hispanic homeownership and economic prosperity.<br /><br />Discover fundamental strategies through exclusive briefings, panel discussions, and workshops on market trends, housing supply, and mortgage lending insights. Engage in critical conversations shaping housing policy and connect with peers dedicated to driving meaningful change, equipping you to navigate an evolving market."\n\n</BODY>\n</HTML>

LOCATION:JW Marriott, 1331, Pennsylvania Avenue Northwest, Ward 2, Washington, District of Columbia, 20045, United States
END:VEVENT

END:VCALENDAR
