BEGIN:VCALENDAR
VERSION:2.0
PRODID:-//hacksw/handcal//NONSGML v1.0//EN
BEGIN:VEVENT
UID:9530c986a66cf69404d65d52a0a706cc
DTSTAMP:20260420T124124Z

DTSTART:20250602T090000
DTEND:20250605T160000
SUMMARY:REITweek: 2025 Investor Conference
DESCRIPTION:Nareit's REITweek: 2025 Investor Conference provides an opportunity for investors to meet with REIT management teams. During REITweek, Nareit corporate members will share their business plans, forecasts, and strategies with institutional investors in a series of individual company presentations, one-on-one meetings, luncheons, and networking events. In addition, REITweek offers attendees compelling panels that provide the latest perspectives on the economy, industry trends, and other investment insights and information.

X-ALT-DESC;FMTTYPE=text/html:<!DOCTYPE HTML PUBLIC "-//W3C//DTD HTML 3.2//EN">\n<HTML>\n<HEAD>\n<META NAME="Generator" CONTENT="MS Exchange Server version 08.00.0681.000">\n<TITLE></TITLE>\n</HEAD>\n<BODY>\n<!-- Converted from text/rtf format -->\n\nNareit's REITweek: 2025 Investor Conference provides an opportunity for investors to meet with REIT management teams. During REITweek, Nareit corporate members will share their business plans, forecasts, and strategies with institutional investors in a series of individual company presentations, one-on-one meetings, luncheons, and networking events. In addition, REITweek offers attendees compelling panels that provide the latest perspectives on the economy, industry trends, and other investment insights and information.\n\n</BODY>\n</HTML>

LOCATION:Hilton New York Midtown, 1335, 6th Avenue, Theater District, Manhattan Community Board 5, Manhattan, New York County, City of New York, New York, 10019, United States
END:VEVENT

END:VCALENDAR
