BEGIN:VCALENDAR
VERSION:2.0
PRODID:-//hacksw/handcal//NONSGML v1.0//EN
BEGIN:VEVENT
UID:7d29da545bee0c49d7f433b1d11a1a5e
DTSTAMP:20260420T062733Z

DTSTART:20250609T090000
DTEND:20250612T170000
SUMMARY:2025 Mortgage Industry Standards Maintenance Organization (MISMO) Spring Summit
DESCRIPTION:MISMO Summits allow you to network and collaborate with your industry colleagues while learning the latest updates on mortgage industry standards.  Your participation helps make the digital future possible. Join us at the upcoming MISMO Summit and learn what's hot in mortgage standards.

X-ALT-DESC;FMTTYPE=text/html:<!DOCTYPE HTML PUBLIC "-//W3C//DTD HTML 3.2//EN">\n<HTML>\n<HEAD>\n<META NAME="Generator" CONTENT="MS Exchange Server version 08.00.0681.000">\n<TITLE></TITLE>\n</HEAD>\n<BODY>\n<!-- Converted from text/rtf format -->\n\nMISMO Summits allow you to network and collaborate with your industry colleagues while learning the latest updates on mortgage industry standards.  Your participation helps make the digital future possible. Join us at the upcoming MISMO Summit and learn what's hot in mortgage standards.\n\n</BODY>\n</HTML>

LOCATION:Boston, Suffolk County, Massachusetts, United States
END:VEVENT

END:VCALENDAR
