BEGIN:VCALENDAR
VERSION:2.0
PRODID:-//hacksw/handcal//NONSGML v1.0//EN
BEGIN:VEVENT
UID:50fd3afe2955e09a92f5a0478cf9d46b
DTSTAMP:20260420T105542Z

DTSTART:20250318T133000
DTEND:20250318T153000
SUMMARY:Down Payment Assistance: Making Homeownership Possible
DESCRIPTION:Tuesday, March 18th 2025 from 1:30PM – 3:30PM\nPresented by Michael Steller of Steller Lending Team\n2 CE | No Cost\n\nIn this interactive 2-hour session, we will delve into the various aspects of Down Payment Assistance (DPA). You will gain a thorough understanding of how DPA can facilitate entry into the real estate market. Have a complete grasp of the DPA landscape, including types of programs, eligibility criteria, and how these can benefit your clients and your practice. This knowledge is invaluable for helping prospective homeowners navigate their path to homeownership.

X-ALT-DESC;FMTTYPE=text/html:<!DOCTYPE HTML PUBLIC "-//W3C//DTD HTML 3.2//EN">\n<HTML>\n<HEAD>\n<META NAME="Generator" CONTENT="MS Exchange Server version 08.00.0681.000">\n<TITLE></TITLE>\n</HEAD>\n<BODY>\n<!-- Converted from text/rtf format -->\n\nTuesday, March 18th 2025 from 1:30PM – 3:30PM<br />Presented by Michael Steller of Steller Lending Team<br />2 CE | No Cost<br /><br />In this interactive 2-hour session, we will delve into the various aspects of Down Payment Assistance (DPA). You will gain a thorough understanding of how DPA can facilitate entry into the real estate market. Have a complete grasp of the DPA landscape, including types of programs, eligibility criteria, and how these can benefit your clients and your practice. This knowledge is invaluable for helping prospective homeowners navigate their path to homeownership.\n\n</BODY>\n</HTML>

LOCATION:
END:VEVENT

END:VCALENDAR
