BEGIN:VCALENDAR
VERSION:2.0
PRODID:-//hacksw/handcal//NONSGML v1.0//EN
BEGIN:VEVENT
UID:e87ab8b0f75f870cd3ad4c87cc6b279b
DTSTAMP:20260420T105845Z

DTSTART:20250514T090000
DTEND:20250514T170000
SUMMARY:South Carolina Realtors RISE Conference 2025
DESCRIPTION:"Are you ready to RISE?\n\nReach, Inspire, Support, Empower\n\nJoin us for the SCR Conference, where empowerment meets expertise! This event brings together trailblazers in the real estate industry for a day of networking, knowledge-sharing, and inspiration. From dynamic keynote speakers to interactive panel discussions, you'll gain valuable insights into the latest trends, best practices, and strategies for success in today's competitive real estate market. Don't miss this opportunity to connect with like-minded professionals, elevate your skills, and be part of a supportive community driving change in the industry."

X-ALT-DESC;FMTTYPE=text/html:<!DOCTYPE HTML PUBLIC "-//W3C//DTD HTML 3.2//EN">\n<HTML>\n<HEAD>\n<META NAME="Generator" CONTENT="MS Exchange Server version 08.00.0681.000">\n<TITLE></TITLE>\n</HEAD>\n<BODY>\n<!-- Converted from text/rtf format -->\n\n"Are you ready to RISE?<br /><br />Reach, Inspire, Support, Empower<br /><br />Join us for the SCR Conference, where empowerment meets expertise! This event brings together trailblazers in the real estate industry for a day of networking, knowledge-sharing, and inspiration. From dynamic keynote speakers to interactive panel discussions, you'll gain valuable insights into the latest trends, best practices, and strategies for success in today's competitive real estate market. Don't miss this opportunity to connect with like-minded professionals, elevate your skills, and be part of a supportive community driving change in the industry."\n\n</BODY>\n</HTML>

LOCATION:Columbia, Richland County, South Carolina, United States
END:VEVENT

END:VCALENDAR
