BEGIN:VCALENDAR
VERSION:2.0
PRODID:-//hacksw/handcal//NONSGML v1.0//EN
BEGIN:VEVENT
UID:4cc7a2d5db0fb751ddc0c51738ebd7c2
DTSTAMP:20260420T111446Z

DTSTART:20250916T090000
DTEND:20250918T170000
SUMMARY:Virginia Realtors Annual Convention 2025
DESCRIPTION:"Each year in September, we host our biggest event of the year, the annual convention. During this action-packed event, you'll have the opportunities to hear from top-notch speakers, learn about the most current information in your industry, network with peers from across the commonwealth, and enjoy time that you've carved out just for you and your future. Enhance your business by taking part in this career-focused event. "

X-ALT-DESC;FMTTYPE=text/html:<!DOCTYPE HTML PUBLIC "-//W3C//DTD HTML 3.2//EN">\n<HTML>\n<HEAD>\n<META NAME="Generator" CONTENT="MS Exchange Server version 08.00.0681.000">\n<TITLE></TITLE>\n</HEAD>\n<BODY>\n<!-- Converted from text/rtf format -->\n\n"Each year in September, we host our biggest event of the year, the annual convention. During this action-packed event, you'll have the opportunities to hear from top-notch speakers, learn about the most current information in your industry, network with peers from across the commonwealth, and enjoy time that you've carved out just for you and your future. Enhance your business by taking part in this career-focused event. "\n\n</BODY>\n</HTML>

LOCATION:Richmond, Virginia, United States
END:VEVENT

END:VCALENDAR
