BEGIN:VCALENDAR
VERSION:2.0
PRODID:-//hacksw/handcal//NONSGML v1.0//EN
BEGIN:VEVENT
UID:5f2465e3497a2b47b85f10fc8e0ce9cd
DTSTAMP:20260420T123943Z

DTSTART:20251015T090000
DTEND:20251017T170000
SUMMARY:PMX 2025: Property Management Conference
DESCRIPTION:PMX 2025: Property Management Conference is a can't-miss event for property managers! You will learn the things you need to grow and maintain a thriving property management business. We hope you make plans to join us for this unparalleled growth and networking opportunity that includes the ability to earn continuing education credits with classes targeted specifically to your needs as a property manager.

X-ALT-DESC;FMTTYPE=text/html:<!DOCTYPE HTML PUBLIC "-//W3C//DTD HTML 3.2//EN">\n<HTML>\n<HEAD>\n<META NAME="Generator" CONTENT="MS Exchange Server version 08.00.0681.000">\n<TITLE></TITLE>\n</HEAD>\n<BODY>\n<!-- Converted from text/rtf format -->\n\nPMX 2025: Property Management Conference is a can't-miss event for property managers! You will learn the things you need to grow and maintain a thriving property management business. We hope you make plans to join us for this unparalleled growth and networking opportunity that includes the ability to earn continuing education credits with classes targeted specifically to your needs as a property manager.\n\n</BODY>\n</HTML>

LOCATION:Williamsburg, Virginia, United States
END:VEVENT

END:VCALENDAR
