BEGIN:VCALENDAR
VERSION:2.0
PRODID:-//hacksw/handcal//NONSGML v1.0//EN
BEGIN:VEVENT
UID:97e82fad73c0c3ce7aff5c9b3a296d86
DTSTAMP:20260420T062815Z

DTSTART:20250502T100000
DTEND:20250502T113000
SUMMARY:Unlock The Full Power of AI
DESCRIPTION:Friday, May 2nd 2025 from 10:00AM – 11:30AM\nPresented By Erin Addesso of Triple Threat Success\n0 CE | $10\n\nLearn How to Supercharge Your Real Estate Business with a Customized GPT that Speaks Your Unique Voice! In this class, you’ll discover how to fine-tune your AI to generate personalized content that resonates with clients. Say goodbye to generic listings and hello to a tailored approach that enhances your brand and boosts your business. Best of all, you’ll save valuable time by automating repetitive tasks, freeing you up to focus on what truly matters—building relationships and closing deals. It’s time to harness AI to work smarter, not harder, and stand out in a competitive market!

X-ALT-DESC;FMTTYPE=text/html:<!DOCTYPE HTML PUBLIC "-//W3C//DTD HTML 3.2//EN">\n<HTML>\n<HEAD>\n<META NAME="Generator" CONTENT="MS Exchange Server version 08.00.0681.000">\n<TITLE></TITLE>\n</HEAD>\n<BODY>\n<!-- Converted from text/rtf format -->\n\nFriday, May 2nd 2025 from 10:00AM – 11:30AM<br />Presented By Erin Addesso of Triple Threat Success<br />0 CE | $10<br /><br />Learn How to Supercharge Your Real Estate Business with a Customized GPT that Speaks Your Unique Voice! In this class, you’ll discover how to fine-tune your AI to generate personalized content that resonates with clients. Say goodbye to generic listings and hello to a tailored approach that enhances your brand and boosts your business. Best of all, you’ll save valuable time by automating repetitive tasks, freeing you up to focus on what truly matters—building relationships and closing deals. It’s time to harness AI to work smarter, not harder, and stand out in a competitive market!\n\n</BODY>\n</HTML>

LOCATION:
END:VEVENT

END:VCALENDAR
