BEGIN:VCALENDAR
VERSION:2.0
PRODID:-//hacksw/handcal//NONSGML v1.0//EN
BEGIN:VEVENT
UID:445f7b53ff53a1ffe08f240e08a2daad
DTSTAMP:20260420T051718Z

DTSTART:20250605T100000
DTEND:20250605T120000
SUMMARY:Legacy Building - June 5
DESCRIPTION:Legacy Building through Estate Planning. We will discuss various methodologies of proper Estate Planning to build and protect legacy assets (specifically Real Estate) in order to care for your loved in the event of death or incapacity.\n\nCredits - 2\nCost - $20

X-ALT-DESC;FMTTYPE=text/html:<!DOCTYPE HTML PUBLIC "-//W3C//DTD HTML 3.2//EN">\n<HTML>\n<HEAD>\n<META NAME="Generator" CONTENT="MS Exchange Server version 08.00.0681.000">\n<TITLE></TITLE>\n</HEAD>\n<BODY>\n<!-- Converted from text/rtf format -->\n\nLegacy Building through Estate Planning. We will discuss various methodologies of proper Estate Planning to build and protect legacy assets (specifically Real Estate) in order to care for your loved in the event of death or incapacity.<br /><br />Credits - 2<br />Cost - $20\n\n</BODY>\n</HTML>

LOCATION:
END:VEVENT

END:VCALENDAR
