BEGIN:VCALENDAR
VERSION:2.0
PRODID:-//hacksw/handcal//NONSGML v1.0//EN
BEGIN:VEVENT
UID:110f8007d57bd48a46a27e743e1a8128
DTSTAMP:20260420T024849Z

DTSTART:20250606T100000
DTEND:20250606T120000
SUMMARY:Method Behind the Madness - June 6
DESCRIPTION:Ever wonder how an appraiser came up with their opinion of value? Need help figuring out how to price your listings? Do you find the appraisal process (and appraisers) to be uncomfortable or intimidating? Let’s change that!\n\nCost - $20\nCredits - 2

X-ALT-DESC;FMTTYPE=text/html:<!DOCTYPE HTML PUBLIC "-//W3C//DTD HTML 3.2//EN">\n<HTML>\n<HEAD>\n<META NAME="Generator" CONTENT="MS Exchange Server version 08.00.0681.000">\n<TITLE></TITLE>\n</HEAD>\n<BODY>\n<!-- Converted from text/rtf format -->\n\nEver wonder how an appraiser came up with their opinion of value? Need help figuring out how to price your listings? Do you find the appraisal process (and appraisers) to be uncomfortable or intimidating? Let’s change that!<br /><br />Cost - $20<br />Credits - 2\n\n</BODY>\n</HTML>

LOCATION:
END:VEVENT

END:VCALENDAR
