BEGIN:VCALENDAR
VERSION:2.0
PRODID:-//hacksw/handcal//NONSGML v1.0//EN
BEGIN:VEVENT
UID:14cc41a69bbde9b77745208b63c391a3
DTSTAMP:20260419T200455Z

DTSTART:20250611T120000
DTEND:20250611T133000
SUMMARY:Insurance Realities: What Agents Need to Know in 2025
DESCRIPTION:In this class, we will go over all things insurance… Why are some houses not insurable? Why can’t your buyer get insurance? Are HOAs still insuring condos and townhomes? What about roofs? Are they insurable if they are 10 years old? Is Allstate insuring in the mountains and foothills?

X-ALT-DESC;FMTTYPE=text/html:<!DOCTYPE HTML PUBLIC "-//W3C//DTD HTML 3.2//EN">\n<HTML>\n<HEAD>\n<META NAME="Generator" CONTENT="MS Exchange Server version 08.00.0681.000">\n<TITLE></TITLE>\n</HEAD>\n<BODY>\n<!-- Converted from text/rtf format -->\n\nIn this class, we will go over all things insurance… Why are some houses not insurable? Why can’t your buyer get insurance? Are HOAs still insuring condos and townhomes? What about roofs? Are they insurable if they are 10 years old? Is Allstate insuring in the mountains and foothills?\n\n</BODY>\n</HTML>

LOCATION:2960, Diagonal Highway Multi-use Path, Boulder, Boulder County, Colorado, 80301, United States
END:VEVENT

END:VCALENDAR
