BEGIN:VCALENDAR
VERSION:2.0
PRODID:-//hacksw/handcal//NONSGML v1.0//EN
BEGIN:VEVENT
UID:3ebafb213fd03a650b880c3dadaa0565
DTSTAMP:20260420T035602Z

DTSTART:20260130T120000
DTEND:20260201T183000
SUMMARY:Fort Lauderdale Home Design and Remodeling Show 2026
DESCRIPTION:Our shows in South Florida bring together valuable insights, quality products and services, and rich perspectives from some of today’s most prominent brands and designers. Enjoy one-on-one product demonstrations, discussion panels, and a spectacular showcase of the most cutting-edge trends in the home design industry. From fine art to home automation, our exhibitions span the entire home design spectrum.

X-ALT-DESC;FMTTYPE=text/html:<!DOCTYPE HTML PUBLIC "-//W3C//DTD HTML 3.2//EN">\n<HTML>\n<HEAD>\n<META NAME="Generator" CONTENT="MS Exchange Server version 08.00.0681.000">\n<TITLE></TITLE>\n</HEAD>\n<BODY>\n<!-- Converted from text/rtf format -->\n\nOur shows in South Florida bring together valuable insights, quality products and services, and rich perspectives from some of today’s most prominent brands and designers. Enjoy one-on-one product demonstrations, discussion panels, and a spectacular showcase of the most cutting-edge trends in the home design industry. From fine art to home automation, our exhibitions span the entire home design spectrum.\n\n</BODY>\n</HTML>

LOCATION:1950, Eisenhower Boulevard, Port Everglades, Fort Lauderdale, Broward County, Florida, 33316, United States
END:VEVENT

END:VCALENDAR
