BEGIN:VCALENDAR
VERSION:2.0
PRODID:-//hacksw/handcal//NONSGML v1.0//EN
BEGIN:VEVENT
UID:b77eece7b1c5937f94b2a693b2bc78f5
DTSTAMP:20260420T070450Z

DTSTART:20260516T100000
DTEND:20260517T170000
SUMMARY:Tallahassee Home Show 2026
DESCRIPTION:Come out to enjoy the Tallahassee Home Show! There will be featured showcases of interior designs, hot tub blowout sale, many exhibitors and vendors and so much more!\n\nSave the date for the Tallahassee Home Show, coming to Tallahassee, FL, on May 16th – 17th, 2026. Held at the Donald L. Tucker Civic Center this event offers a comprehensive look into home and outdoor living trends.\n\nDon't miss this chance to discover new ideas and connect with experts in the field. Whether you're looking to spruce up your home or enhance your outdoor lifestyle, the Tallahassee Home Show has something for everyone. Join us for a weekend of inspiration, innovation, and excitement!

X-ALT-DESC;FMTTYPE=text/html:<!DOCTYPE HTML PUBLIC "-//W3C//DTD HTML 3.2//EN">\n<HTML>\n<HEAD>\n<META NAME="Generator" CONTENT="MS Exchange Server version 08.00.0681.000">\n<TITLE></TITLE>\n</HEAD>\n<BODY>\n<!-- Converted from text/rtf format -->\n\nCome out to enjoy the Tallahassee Home Show! There will be featured showcases of interior designs, hot tub blowout sale, many exhibitors and vendors and so much more!<br /><br />Save the date for the Tallahassee Home Show, coming to Tallahassee, FL, on May 16th – 17th, 2026. Held at the Donald L. Tucker Civic Center this event offers a comprehensive look into home and outdoor living trends.<br /><br />Don't miss this chance to discover new ideas and connect with experts in the field. Whether you're looking to spruce up your home or enhance your outdoor lifestyle, the Tallahassee Home Show has something for everyone. Join us for a weekend of inspiration, innovation, and excitement!\n\n</BODY>\n</HTML>

LOCATION:Donald L. Tucker Civic Center, 505, West Pensacola Street, All Saints, Tallahassee, Leon County, Florida, 32301, United States
END:VEVENT

END:VCALENDAR
