BEGIN:VCALENDAR
VERSION:2.0
PRODID:-//hacksw/handcal//NONSGML v1.0//EN
BEGIN:VEVENT
UID:2936ba61d23a9fce223edaec55e384ff
DTSTAMP:20260420T090906Z

DTSTART:20250722T140000
DTEND:20250722T150000
SUMMARY:Parker Economic Development Update
DESCRIPTION:Join us for an exclusive economic update presented by the Director of the Parker Economic Development team offering insights and growth for Parker, along with development and economic trends. Don’t miss this opportunity to stay informed and connect with local leaders driving economic success.

X-ALT-DESC;FMTTYPE=text/html:<!DOCTYPE HTML PUBLIC "-//W3C//DTD HTML 3.2//EN">\n<HTML>\n<HEAD>\n<META NAME="Generator" CONTENT="MS Exchange Server version 08.00.0681.000">\n<TITLE></TITLE>\n</HEAD>\n<BODY>\n<!-- Converted from text/rtf format -->\n\nJoin us for an exclusive economic update presented by the Director of the Parker Economic Development team offering insights and growth for Parker, along with development and economic trends. Don’t miss this opportunity to stay informed and connect with local leaders driving economic success.\n\n</BODY>\n</HTML>

LOCATION:Douglas County Libraries - Parker, 20105, East Mainstreet, Parker, Douglas County, Colorado, 80134, United States
END:VEVENT

END:VCALENDAR
